BEGIN:VCALENDAR
VERSION:2.0
PRODID:-//eventon.com NONSGML v1.0//EN
CALSCALE:GREGORIAN
METHOD:PUBLISH
BEGIN:VEVENT
UID:69e5faac8e95f
DTSTAMP:20260420T100636Z
DTSTART:20240505T160000Z
DTEND:20240505T180000Z
LOCATION:Clintwood Little League Field
SUMMARY:Dickenson County Shining Stars Baseball Game
DESCRIPTION:Come out and enjoy an exciting ballgame.  Free jerseys to all 
 players. For more information call Glen at 276-207-0254\nhttps://visitdicke
 nsoncounty.com/events/dickenson-county-shining-stars-baseball-game-5/
URL:https://visitdickensoncounty.com/events/dickenson-county-shining-stars-baseball-game-5/
END:VEVENT
END:VCALENDAR