BEGIN:VCALENDAR
VERSION:2.0
PRODID:-//eventon.com NONSGML v1.0//EN
CALSCALE:GREGORIAN
METHOD:PUBLISH
BEGIN:VEVENT
UID:69e8bb25d760d
DTSTAMP:20260422T121221Z
DTSTART:20231230T120000Z
DTEND:20231231T120000Z
LOCATION:New Location 4323 Street Name
SUMMARY:Test Event 2
DESCRIPTION:Test Event 2\nhttps://visitdickensoncounty.com/events/test-even
 t-2/
URL:https://visitdickensoncounty.com/events/test-event-2/
END:VEVENT
END:VCALENDAR